BEGIN:VCALENDAR
VERSION:2.0
PRODID:-//eventon.com NONSGML v1.0//EN
CALSCALE:GREGORIAN
METHOD:PUBLISH
BEGIN:VEVENT
UID:69e9e4dbae45b
DTSTAMP:20260423T092235Z
DTSTART:20260521T160000Z
DTEND:20260521T193000Z
LOCATION:Künstlerhof Lavesum Am Friedhof 25
SUMMARY:Feelgood-Kreativ-Halbjahresgruppe (geschlossene Gruppe)
DESCRIPTION:\nhttps://malemitliebe.de/malemitliebe.de/events/feelgood-kreat
 iv-halbjahresgruppe-geschlossene-gruppe-8/
URL:https://malemitliebe.de/malemitliebe.de/events/feelgood-kreativ-halbjahresgruppe-geschlossene-gruppe-8/
END:VEVENT
END:VCALENDAR