BEGIN:VCALENDAR
VERSION:2.0
PRODID:-//eventon.com NONSGML v1.0//EN
CALSCALE:GREGORIAN
METHOD:PUBLISH
BEGIN:VEVENT
UID:69e9e5b4d0d1b
DTSTAMP:20260423T092612Z
DTSTART:20260910T160000Z
DTEND:20260910T193000Z
LOCATION:Künstlerhof Lavesum Am Friedhof 25
SUMMARY:Feelgood-Kreativ-Halbjahresgruppe (geschlossene Gruppe)
DESCRIPTION:\nhttps://malemitliebe.de/malemitliebe.de/events/feelgood-kreat
 iv-halbjahresgruppe-geschlossene-gruppe-11/
URL:https://malemitliebe.de/malemitliebe.de/events/feelgood-kreativ-halbjahresgruppe-geschlossene-gruppe-11/
END:VEVENT
END:VCALENDAR