BEGIN:VCALENDAR
VERSION:2.0
PRODID:-//eventon.com NONSGML v1.0//EN
CALSCALE:GREGORIAN
METHOD:PUBLISH
BEGIN:VEVENT
UID:69e9e618ec86a
DTSTAMP:20260423T092752Z
DTSTART:20260603T160000Z
DTEND:20260603T190000Z
LOCATION:Künstlerhof Lavesum Am Friedhof 25
SUMMARY:Workshop Acrylmalerei für Erwachsene
DESCRIPTION:\nhttps://malemitliebe.de/malemitliebe.de/events/workshop-acryl
 malerei-fuer-erwachsene-6/
URL:https://malemitliebe.de/malemitliebe.de/events/workshop-acrylmalerei-fuer-erwachsene-6/
END:VEVENT
END:VCALENDAR