BEGIN:VCALENDAR
VERSION:2.0
PRODID:-//eventon.com NONSGML v1.0//EN
CALSCALE:GREGORIAN
METHOD:PUBLISH
BEGIN:VEVENT
UID:69e9e40d311d7
DTSTAMP:20260423T091909Z
DTSTART:20260430T133000Z
DTEND:20260430T150000Z
LOCATION:Künstlerhof Lavesum Am Friedhof 25
SUMMARY:(Groß-) Eltern-Kind-Malen
DESCRIPTION:\nhttps://malemitliebe.de/malemitliebe.de/events/gross-eltern-k
 ind-malen-4/
URL:https://malemitliebe.de/malemitliebe.de/events/gross-eltern-kind-malen-4/
END:VEVENT
END:VCALENDAR