BEGIN:VCALENDAR
VERSION:2.0
PRODID:-//eventon.com NONSGML v1.0//EN
CALSCALE:GREGORIAN
METHOD:PUBLISH
BEGIN:VEVENT
UID:69e9e4604bee9
DTSTAMP:20260423T092032Z
DTSTART:20260527T133000Z
DTEND:20260527T150000Z
LOCATION:Künstlerhof Lavesum Am Friedhof 25
SUMMARY:(Groß-) Eltern-Kind-Malen
DESCRIPTION:\nhttps://malemitliebe.de/malemitliebe.de/events/gross-eltern-k
 ind-malen-5/
URL:https://malemitliebe.de/malemitliebe.de/events/gross-eltern-kind-malen-5/
END:VEVENT
END:VCALENDAR