BEGIN:VCALENDAR
VERSION:2.0
PRODID:-//eventon.com NONSGML v1.0//EN
CALSCALE:GREGORIAN
METHOD:PUBLISH
BEGIN:VEVENT
UID:69e9e6423a22e
DTSTAMP:20260423T092834Z
DTSTART:20260601T133000Z
DTEND:20260601T150000Z
LOCATION:Künstlerhof Lavesum Am Friedhof 25
SUMMARY:(Groß-) Eltern-Kind-Malen
DESCRIPTION:\nhttps://malemitliebe.de/malemitliebe.de/events/gross-eltern-k
 ind-malen-6/
URL:https://malemitliebe.de/malemitliebe.de/events/gross-eltern-kind-malen-6/
END:VEVENT
END:VCALENDAR