BEGIN:VCALENDAR
VERSION:2.0
PRODID:-//eventon.com NONSGML v1.0//EN
CALSCALE:GREGORIAN
METHOD:PUBLISH
BEGIN:VEVENT
UID:69e9e66106b13
DTSTAMP:20260423T092905Z
DTSTART:20260427T151500Z
DTEND:20260427T163000Z
LOCATION:Künstlerhof Lavesum Am Friedhof 25
SUMMARY:Kreativ-Werkstatt für Kinder von 5-9 Jahren - Gruppe B
DESCRIPTION:\nhttps://malemitliebe.de/malemitliebe.de/events/kreativ-werkst
 att-fuer-kinder-von-5-9-jahren-gruppe-b-4/
URL:https://malemitliebe.de/malemitliebe.de/events/kreativ-werkstatt-fuer-kinder-von-5-9-jahren-gruppe-b-4/
END:VEVENT
END:VCALENDAR