BEGIN:VCALENDAR
VERSION:2.0
PRODID:-//eventon.com NONSGML v1.0//EN
CALSCALE:GREGORIAN
METHOD:PUBLISH
BEGIN:VEVENT
UID:69e9e5e35cd62
DTSTAMP:20260423T092659Z
DTSTART:20260428T133000Z
DTEND:20260428T144500Z
LOCATION:Künstlerhof Lavesum Am Friedhof 25
SUMMARY:Kreativ-Werkstatt für Kinder von 5-9 Jahren - Gruppe C
DESCRIPTION:\nhttps://malemitliebe.de/malemitliebe.de/events/kreativ-werkst
 att-fuer-kinder-von-5-9-jahren-gruppe-c-4/
URL:https://malemitliebe.de/malemitliebe.de/events/kreativ-werkstatt-fuer-kinder-von-5-9-jahren-gruppe-c-4/
END:VEVENT
END:VCALENDAR