BEGIN:VCALENDAR
VERSION:2.0
PRODID:-//eventon.com NONSGML v1.0//EN
CALSCALE:GREGORIAN
METHOD:PUBLISH
BEGIN:VEVENT
UID:69e9e4a240ac0
DTSTAMP:20260423T092138Z
DTSTART:20260429T141500Z
DTEND:20260429T153000Z
LOCATION:Künstlerhof Lavesum Am Friedhof 25
SUMMARY:Kreativ-Werkstatt für Kinder von 5-9 Jahren - Gruppe D
DESCRIPTION:\nhttps://malemitliebe.de/malemitliebe.de/events/kreativ-werkst
 att-fuer-kinder-von-5-9-jahren-gruppe-d-11/
URL:https://malemitliebe.de/malemitliebe.de/events/kreativ-werkstatt-fuer-kinder-von-5-9-jahren-gruppe-d-11/
END:VEVENT
END:VCALENDAR