BEGIN:VCALENDAR
VERSION:2.0
PRODID:-//eventon.com NONSGML v1.0//EN
CALSCALE:GREGORIAN
METHOD:PUBLISH
BEGIN:VEVENT
UID:69e9e45ed779f
DTSTAMP:20260423T092030Z
DTSTART:20260428T151500Z
DTEND:20260428T163000Z
LOCATION:Künstlerhof Lavesum Am Friedhof 25
SUMMARY:Kreativ-Werkstatt für Kinder ab 10 Jahren
DESCRIPTION:\nhttps://malemitliebe.de/malemitliebe.de/events/kreativ-werkst
 att-fuer-kinder-ab-10-jahren-4/
URL:https://malemitliebe.de/malemitliebe.de/events/kreativ-werkstatt-fuer-kinder-ab-10-jahren-4/
END:VEVENT
END:VCALENDAR