BEGIN:VCALENDAR
VERSION:2.0
PRODID:-//eventon.com NONSGML v1.0//EN
CALSCALE:GREGORIAN
METHOD:PUBLISH
BEGIN:VEVENT
UID:69e9e3d2d73ae
DTSTAMP:20260423T091810Z
DTSTART:20260630T150000Z
DTEND:20260630T170000Z
LOCATION:Künstlerhof Lavesum Am Friedhof 25
SUMMARY:Workshop Acrylmalerei für Kinder und Jugendliche
DESCRIPTION:Workshop Acrylmalerei für Kinder und Jugendliche\nhttps://male
 mitliebe.de/malemitliebe.de/events/workshop-acrylmalerei-fuer-kinder-und-ju
 gendliche-6/
URL:https://malemitliebe.de/malemitliebe.de/events/workshop-acrylmalerei-fuer-kinder-und-jugendliche-6/
END:VEVENT
END:VCALENDAR